Package: ELMER.data Version: 2.35.0 Command: /home/biocbuild/bbs-3.23-bioc/R/bin/R CMD build --keep-empty-dirs --no-resave-data ELMER.data StartedAt: 2025-11-13 11:16:08 -0500 (Thu, 13 Nov 2025) EndedAt: 2025-11-13 11:18:00 -0500 (Thu, 13 Nov 2025) EllapsedTime: 112.3 seconds RetCode: 0 Status: OK PackageFile: ELMER.data_2.35.0.tar.gz PackageFileSize: 293.4 MiB