Package: EGSEAdata Version: 1.39.0 Command: /home/biocbuild/bbs-3.23-bioc/R/bin/R CMD INSTALL EGSEAdata StartedAt: 2025-11-11 10:55:54 -0500 (Tue, 11 Nov 2025) EndedAt: 2025-11-11 10:55:57 -0500 (Tue, 11 Nov 2025) EllapsedTime: 2.8 seconds RetCode: 0 Status: OK