Package: EGSEAdata Version: 1.39.0 Maintainer: Monther Alhamdoosh MaintainerEmail: m.hamdoosh at gmail.com git_url: https://git.bioconductor.org/packages/EGSEAdata git_branch: devel git_last_commit: 6546cdb git_last_commit_date: 2025-10-29 09:58:28 -0500 (Wed, 29 Oct 2025)