Package: DvDdata Version: 1.47.0 Command: /home/biocbuild/bbs-3.23-bioc/R/bin/R CMD build --keep-empty-dirs --no-resave-data DvDdata StartedAt: 2025-11-11 11:15:47 -0500 (Tue, 11 Nov 2025) EndedAt: 2025-11-11 11:16:00 -0500 (Tue, 11 Nov 2025) EllapsedTime: 12.5 seconds RetCode: 0 Status: OK PackageFile: DvDdata_1.47.0.tar.gz PackageFileSize: 43.89 MiB