Package: DuoClustering2018 Version: 1.29.0 Command: /home/biocbuild/bbs-3.23-bioc/R/bin/R CMD check --install=check:DuoClustering2018.install-out.txt --library=/home/biocbuild/bbs-3.23-bioc/R/site-library --timings DuoClustering2018_1.29.0.tar.gz StartedAt: 2025-11-11 12:15:51 -0500 (Tue, 11 Nov 2025) EndedAt: 2025-11-11 12:20:10 -0500 (Tue, 11 Nov 2025) EllapsedTime: 259.1 seconds RetCode: 0 Status: OK CheckDir: DuoClustering2018.Rcheck Warnings: 0