Package: DropletTestFiles Version: 1.21.0 Command: /home/biocbuild/bbs-3.23-bioc/R/bin/R CMD INSTALL DropletTestFiles StartedAt: 2025-11-11 10:57:29 -0500 (Tue, 11 Nov 2025) EndedAt: 2025-11-11 10:57:42 -0500 (Tue, 11 Nov 2025) EllapsedTime: 12.7 seconds RetCode: 0 Status: OK