Package: DropletTestFiles Version: 1.21.0 Command: /home/biocbuild/bbs-3.23-bioc/R/bin/R CMD check --install=check:DropletTestFiles.install-out.txt --library=/home/biocbuild/bbs-3.23-bioc/R/site-library --timings DropletTestFiles_1.21.0.tar.gz StartedAt: 2025-11-11 12:15:29 -0500 (Tue, 11 Nov 2025) EndedAt: 2025-11-11 12:17:41 -0500 (Tue, 11 Nov 2025) EllapsedTime: 132.1 seconds RetCode: 0 Status: OK CheckDir: DropletTestFiles.Rcheck Warnings: 0