Package: DonaPLLP2013 Version: 1.49.0 Command: /home/biocbuild/bbs-3.23-bioc/R/bin/R CMD check --install=check:DonaPLLP2013.install-out.txt --library=/home/biocbuild/bbs-3.23-bioc/R/site-library --timings DonaPLLP2013_1.49.0.tar.gz StartedAt: 2025-11-11 12:14:18 -0500 (Tue, 11 Nov 2025) EndedAt: 2025-11-11 12:20:09 -0500 (Tue, 11 Nov 2025) EllapsedTime: 351.7 seconds RetCode: 0 Status: OK CheckDir: DonaPLLP2013.Rcheck Warnings: 0