Package: DoReMiTra Version: 1.1.0 Command: /home/biocbuild/bbs-3.23-bioc/R/bin/R CMD INSTALL DoReMiTra StartedAt: 2025-11-11 11:02:07 -0500 (Tue, 11 Nov 2025) EndedAt: 2025-11-11 11:02:32 -0500 (Tue, 11 Nov 2025) EllapsedTime: 25.2 seconds RetCode: 0 Status: OK