Package: DoReMiTra Version: 1.1.0 Command: /home/biocbuild/bbs-3.23-bioc/R/bin/R CMD check --install=check:DoReMiTra.install-out.txt --library=/home/biocbuild/bbs-3.23-bioc/R/site-library --timings DoReMiTra_1.1.0.tar.gz StartedAt: 2025-11-11 12:14:21 -0500 (Tue, 11 Nov 2025) EndedAt: 2025-11-11 12:20:50 -0500 (Tue, 11 Nov 2025) EllapsedTime: 388.9 seconds RetCode: 0 Status: OK CheckDir: DoReMiTra.Rcheck Warnings: 0