Package: DoReMiTra Version: 1.1.0 Command: /home/biocbuild/bbs-3.23-bioc/R/bin/R CMD build --keep-empty-dirs --no-resave-data DoReMiTra StartedAt: 2025-11-11 11:15:22 -0500 (Tue, 11 Nov 2025) EndedAt: 2025-11-11 11:16:17 -0500 (Tue, 11 Nov 2025) EllapsedTime: 55.2 seconds RetCode: 0 Status: OK PackageFile: DoReMiTra_1.1.0.tar.gz PackageFileSize: 1.105 MiB