Package: DeSousa2013 Version: 1.47.0 Command: /home/biocbuild/bbs-3.23-bioc/R/bin/R CMD INSTALL DeSousa2013 StartedAt: 2025-11-11 11:00:28 -0500 (Tue, 11 Nov 2025) EndedAt: 2025-11-11 11:00:59 -0500 (Tue, 11 Nov 2025) EllapsedTime: 31.7 seconds RetCode: 0 Status: OK