Package: DeSousa2013 Version: 1.47.0 Command: /home/biocbuild/bbs-3.23-bioc/R/bin/R CMD check --install=check:DeSousa2013.install-out.txt --library=/home/biocbuild/bbs-3.23-bioc/R/site-library --timings DeSousa2013_1.47.0.tar.gz StartedAt: 2025-11-11 12:12:13 -0500 (Tue, 11 Nov 2025) EndedAt: 2025-11-11 12:16:54 -0500 (Tue, 11 Nov 2025) EllapsedTime: 281.0 seconds RetCode: 0 Status: OK CheckDir: DeSousa2013.Rcheck Warnings: 0