Package: DNAZooData Version: 1.11.0 Maintainer: Jacques Serizay MaintainerEmail: jacquesserizay at gmail.com git_url: https://git.bioconductor.org/packages/DNAZooData git_branch: devel git_last_commit: 0ff405e git_last_commit_date: 2025-10-29 10:05:27 -0500 (Wed, 29 Oct 2025)