Package: DExMAdata Version: 1.19.0 Command: /home/biocbuild/bbs-3.23-bioc/R/bin/R CMD check --install=check:DExMAdata.install-out.txt --library=/home/biocbuild/bbs-3.23-bioc/R/site-library --timings DExMAdata_1.19.0.tar.gz StartedAt: 2025-11-11 12:12:31 -0500 (Tue, 11 Nov 2025) EndedAt: 2025-11-11 12:13:08 -0500 (Tue, 11 Nov 2025) EllapsedTime: 37.0 seconds RetCode: 0 Status: OK CheckDir: DExMAdata.Rcheck Warnings: 0