Package: DExMAdata Version: 1.19.0 Command: /home/biocbuild/bbs-3.23-bioc/R/bin/R CMD build --keep-empty-dirs --no-resave-data DExMAdata StartedAt: 2025-11-11 11:14:35 -0500 (Tue, 11 Nov 2025) EndedAt: 2025-11-11 11:15:39 -0500 (Tue, 11 Nov 2025) EllapsedTime: 64.7 seconds RetCode: 0 Status: OK PackageFile: DExMAdata_1.19.0.tar.gz PackageFileSize: 7.389 MiB