Package: CytoMethIC Version: 1.7.0 Command: /home/biocbuild/bbs-3.23-bioc/R/bin/R CMD INSTALL CytoMethIC StartedAt: 2025-11-11 11:04:25 -0500 (Tue, 11 Nov 2025) EndedAt: 2025-11-11 11:04:52 -0500 (Tue, 11 Nov 2025) EllapsedTime: 27.6 seconds RetCode: 0 Status: OK