Package: CopyNeutralIMA Version: 1.29.0 Command: /home/biocbuild/bbs-3.23-bioc/R/bin/R CMD INSTALL CopyNeutralIMA StartedAt: 2025-11-11 11:03:57 -0500 (Tue, 11 Nov 2025) EndedAt: 2025-11-11 11:04:14 -0500 (Tue, 11 Nov 2025) EllapsedTime: 17.6 seconds RetCode: 0 Status: OK