Package: CopyNeutralIMA Version: 1.29.0 Command: /home/biocbuild/bbs-3.23-bioc/R/bin/R CMD check --install=check:CopyNeutralIMA.install-out.txt --library=/home/biocbuild/bbs-3.23-bioc/R/site-library --timings CopyNeutralIMA_1.29.0.tar.gz StartedAt: 2025-11-11 12:08:00 -0500 (Tue, 11 Nov 2025) EndedAt: 2025-11-11 12:13:31 -0500 (Tue, 11 Nov 2025) EllapsedTime: 331.6 seconds RetCode: 0 Status: OK CheckDir: CopyNeutralIMA.Rcheck Warnings: 0