Package: ConnectivityMap Version: 1.47.0 Command: /home/biocbuild/bbs-3.23-bioc/R/bin/R CMD INSTALL ConnectivityMap StartedAt: 2025-11-11 10:55:51 -0500 (Tue, 11 Nov 2025) EndedAt: 2025-11-11 10:55:54 -0500 (Tue, 11 Nov 2025) EllapsedTime: 2.8 seconds RetCode: 0 Status: OK