Package: ConnectivityMap Version: 1.47.0 Command: /home/biocbuild/bbs-3.23-bioc/R/bin/R CMD build --keep-empty-dirs --no-resave-data ConnectivityMap StartedAt: 2025-11-11 11:10:49 -0500 (Tue, 11 Nov 2025) EndedAt: 2025-11-11 11:11:04 -0500 (Tue, 11 Nov 2025) EllapsedTime: 15.0 seconds RetCode: 0 Status: OK PackageFile: ConnectivityMap_1.47.0.tar.gz PackageFileSize: 236.7 MiB