Package: CluMSIDdata Version: 1.27.0 Command: /home/biocbuild/bbs-3.23-bioc/R/bin/R CMD check --install=check:CluMSIDdata.install-out.txt --library=/home/biocbuild/bbs-3.23-bioc/R/site-library --timings CluMSIDdata_1.27.0.tar.gz StartedAt: 2025-11-11 12:07:16 -0500 (Tue, 11 Nov 2025) EndedAt: 2025-11-11 12:07:30 -0500 (Tue, 11 Nov 2025) EllapsedTime: 14.6 seconds RetCode: 0 Status: OK CheckDir: CluMSIDdata.Rcheck Warnings: 0