Package: CluMSIDdata Version: 1.27.0 Command: /home/biocbuild/bbs-3.23-bioc/R/bin/R CMD build --keep-empty-dirs --no-resave-data CluMSIDdata StartedAt: 2025-11-11 11:10:26 -0500 (Tue, 11 Nov 2025) EndedAt: 2025-11-11 11:11:33 -0500 (Tue, 11 Nov 2025) EllapsedTime: 67.9 seconds RetCode: 0 Status: OK PackageFile: CluMSIDdata_1.27.0.tar.gz PackageFileSize: 47.27 MiB