Package: CluMSIDdata Version: 1.27.0 Maintainer: Tobias Depke MaintainerEmail: tobias.depke at helmholtz-hzi.de git_url: https://git.bioconductor.org/packages/CluMSIDdata git_branch: devel git_last_commit: 4bbf0f7 git_last_commit_date: 2025-10-29 10:01:04 -0500 (Wed, 29 Oct 2025)