Package: ChimpHumanBrainData Version: 1.49.0 Command: /home/biocbuild/bbs-3.23-bioc/R/bin/R CMD check --install=check:ChimpHumanBrainData.install-out.txt --library=/home/biocbuild/bbs-3.23-bioc/R/site-library --timings ChimpHumanBrainData_1.49.0.tar.gz StartedAt: 2025-11-11 12:05:44 -0500 (Tue, 11 Nov 2025) EndedAt: 2025-11-11 12:06:48 -0500 (Tue, 11 Nov 2025) EllapsedTime: 63.6 seconds RetCode: 0 Status: OK CheckDir: ChimpHumanBrainData.Rcheck Warnings: 0