Package: ChimpHumanBrainData Version: 1.49.0 Command: /home/biocbuild/bbs-3.23-bioc/R/bin/R CMD build --keep-empty-dirs --no-resave-data ChimpHumanBrainData StartedAt: 2025-11-11 11:09:42 -0500 (Tue, 11 Nov 2025) EndedAt: 2025-11-11 11:10:27 -0500 (Tue, 11 Nov 2025) EllapsedTime: 44.6 seconds RetCode: 0 Status: OK PackageFile: ChimpHumanBrainData_1.49.0.tar.gz PackageFileSize: 65.04 MiB