Package: ChIPexoQualExample Version: 1.35.0 Command: /home/biocbuild/bbs-3.23-bioc/R/bin/R CMD check --install=check:ChIPexoQualExample.install-out.txt --library=/home/biocbuild/bbs-3.23-bioc/R/site-library --timings ChIPexoQualExample_1.35.0.tar.gz StartedAt: 2025-11-13 12:07:29 -0500 (Thu, 13 Nov 2025) EndedAt: 2025-11-13 12:07:53 -0500 (Thu, 13 Nov 2025) EllapsedTime: 24.3 seconds RetCode: 0 Status: OK CheckDir: ChIPexoQualExample.Rcheck Warnings: 0