Package: ChIPXpressData Version: 1.49.0 Command: /home/biocbuild/bbs-3.23-bioc/R/bin/R CMD INSTALL ChIPXpressData StartedAt: 2025-11-11 10:56:00 -0500 (Tue, 11 Nov 2025) EndedAt: 2025-11-11 10:56:25 -0500 (Tue, 11 Nov 2025) EllapsedTime: 25.5 seconds RetCode: 0 Status: OK