Package: ChIPDBData Version: 1.1.0 Command: /home/biocbuild/bbs-3.23-bioc/R/bin/R CMD INSTALL ChIPDBData StartedAt: 2025-11-11 10:57:15 -0500 (Tue, 11 Nov 2025) EndedAt: 2025-11-11 10:57:17 -0500 (Tue, 11 Nov 2025) EllapsedTime: 1.7 seconds RetCode: 0 Status: OK