Package: ChAMPdata Version: 2.43.0 Command: /home/biocbuild/bbs-3.23-bioc/R/bin/R CMD build --keep-empty-dirs --no-resave-data ChAMPdata StartedAt: 2025-11-11 11:09:32 -0500 (Tue, 11 Nov 2025) EndedAt: 2025-11-11 11:10:24 -0500 (Tue, 11 Nov 2025) EllapsedTime: 52.2 seconds RetCode: 0 Status: OK PackageFile: ChAMPdata_2.43.0.tar.gz PackageFileSize: 667.1 MiB