Package: CellMapperData Version: 1.37.0 Command: /home/biocbuild/bbs-3.23-bioc/R/bin/R CMD build --keep-empty-dirs --no-resave-data CellMapperData StartedAt: 2025-11-11 11:09:10 -0500 (Tue, 11 Nov 2025) EndedAt: 2025-11-11 11:09:32 -0500 (Tue, 11 Nov 2025) EllapsedTime: 21.6 seconds RetCode: 0 Status: OK PackageFile: CellMapperData_1.37.0.tar.gz PackageFileSize: 147.2 KiB