Package: CardinalWorkflows Version: 1.43.0 Command: /home/biocbuild/bbs-3.23-bioc/R/bin/R CMD build --keep-empty-dirs --no-resave-data CardinalWorkflows StartedAt: 2025-11-11 11:08:47 -0500 (Tue, 11 Nov 2025) EndedAt: 2025-11-11 11:56:59 -0500 (Tue, 11 Nov 2025) EllapsedTime: 2891.4 seconds RetCode: 0 Status: OK PackageFile: CardinalWorkflows_1.43.0.tar.gz PackageFileSize: 53.53 MiB