Package: COSMIC.67 Version: 1.47.0 Command: /home/biocbuild/bbs-3.23-bioc/R/bin/R CMD INSTALL COSMIC.67 StartedAt: 2025-11-11 11:03:36 -0500 (Tue, 11 Nov 2025) EndedAt: 2025-11-11 11:04:12 -0500 (Tue, 11 Nov 2025) EllapsedTime: 35.8 seconds RetCode: 0 Status: OK