Package: COSMIC.67 Version: 1.47.0 Command: /home/biocbuild/bbs-3.23-bioc/R/bin/R CMD check --install=check:COSMIC.67.install-out.txt --library=/home/biocbuild/bbs-3.23-bioc/R/site-library --timings COSMIC.67_1.47.0.tar.gz StartedAt: 2025-11-11 12:08:23 -0500 (Tue, 11 Nov 2025) EndedAt: 2025-11-11 12:13:35 -0500 (Tue, 11 Nov 2025) EllapsedTime: 311.3 seconds RetCode: 0 Status: OK CheckDir: COSMIC.67.Rcheck Warnings: 0