Package: COPDSexualDimorphism.data Version: 1.47.0 Maintainer: J Fah Sathirapongsasuti MaintainerEmail: fah at cs.stanford.edu git_url: https://git.bioconductor.org/packages/COPDSexualDimorphism.data git_branch: devel git_last_commit: e28beeb git_last_commit_date: 2025-10-29 09:54:55 -0500 (Wed, 29 Oct 2025)