Package: CLLmethylation Version: 1.31.0 Command: /home/biocbuild/bbs-3.23-bioc/R/bin/R CMD check --install=check:CLLmethylation.install-out.txt --library=/home/biocbuild/bbs-3.23-bioc/R/site-library --timings CLLmethylation_1.31.0.tar.gz StartedAt: 2025-11-11 12:07:00 -0500 (Tue, 11 Nov 2025) EndedAt: 2025-11-11 12:09:31 -0500 (Tue, 11 Nov 2025) EllapsedTime: 150.3 seconds RetCode: 0 Status: OK CheckDir: CLLmethylation.Rcheck Warnings: 0