Package: CENTREprecomputed Version: 1.1.0 Command: /home/biocbuild/bbs-3.23-bioc/R/bin/R CMD check --install=check:CENTREprecomputed.install-out.txt --library=/home/biocbuild/bbs-3.23-bioc/R/site-library --timings CENTREprecomputed_1.1.0.tar.gz StartedAt: 2025-11-11 12:04:52 -0500 (Tue, 11 Nov 2025) EndedAt: 2025-11-11 12:07:00 -0500 (Tue, 11 Nov 2025) EllapsedTime: 127.9 seconds RetCode: 0 Status: OK CheckDir: CENTREprecomputed.Rcheck Warnings: 0