Package: CENTREprecomputed Version: 1.1.0 Command: /home/biocbuild/bbs-3.23-bioc/R/bin/R CMD build --keep-empty-dirs --no-resave-data CENTREprecomputed StartedAt: 2025-11-11 11:09:24 -0500 (Tue, 11 Nov 2025) EndedAt: 2025-11-11 11:09:52 -0500 (Tue, 11 Nov 2025) EllapsedTime: 28.1 seconds RetCode: 0 Status: OK PackageFile: CENTREprecomputed_1.1.0.tar.gz PackageFileSize: 225.8 KiB