Package: CCl4 Version: 1.49.0 Command: /home/biocbuild/bbs-3.23-bioc/R/bin/R CMD INSTALL CCl4 StartedAt: 2025-11-13 10:56:24 -0500 (Thu, 13 Nov 2025) EndedAt: 2025-11-13 10:56:36 -0500 (Thu, 13 Nov 2025) EllapsedTime: 11.3 seconds RetCode: 0 Status: OK