Package: CCl4 Version: 1.49.0 Command: /home/biocbuild/bbs-3.23-bioc/R/bin/R CMD check --install=check:CCl4.install-out.txt --library=/home/biocbuild/bbs-3.23-bioc/R/site-library --timings CCl4_1.49.0.tar.gz StartedAt: 2025-11-13 12:05:29 -0500 (Thu, 13 Nov 2025) EndedAt: 2025-11-13 12:07:14 -0500 (Thu, 13 Nov 2025) EllapsedTime: 104.9 seconds RetCode: 0 Status: WARNINGS CheckDir: CCl4.Rcheck Warnings: 1