Package: BloodCancerMultiOmics2017 Version: 1.31.0 Command: /home/biocbuild/bbs-3.23-bioc/R/bin/R CMD INSTALL BloodCancerMultiOmics2017 StartedAt: 2025-11-11 10:59:46 -0500 (Tue, 11 Nov 2025) EndedAt: 2025-11-11 11:00:32 -0500 (Tue, 11 Nov 2025) EllapsedTime: 46.6 seconds RetCode: 0 Status: OK