Package: BioPlex Version: 1.15.0 Command: /home/biocbuild/bbs-3.23-bioc/R/bin/R CMD check --install=check:BioPlex.install-out.txt --library=/home/biocbuild/bbs-3.23-bioc/R/site-library --timings BioPlex_1.15.0.tar.gz StartedAt: 2025-10-24 11:39:17 -0400 (Fri, 24 Oct 2025) EndedAt: 2025-10-24 11:45:33 -0400 (Fri, 24 Oct 2025) EllapsedTime: 376.5 seconds RetCode: 0 Status: OK CheckDir: BioPlex.Rcheck Warnings: 0