Package: BioPlex Version: 1.17.0 Command: /home/biocbuild/bbs-3.23-bioc/R/bin/R CMD build --keep-empty-dirs --no-resave-data BioPlex StartedAt: 2025-11-11 11:07:57 -0500 (Tue, 11 Nov 2025) EndedAt: 2025-11-11 11:09:32 -0500 (Tue, 11 Nov 2025) EllapsedTime: 94.4 seconds RetCode: 1 Status: ERROR PackageFile: None PackageFileSize: NA