Package: BioPlex Version: 1.17.0 Maintainer: Ludwig Geistlinger MaintainerEmail: ludwig_geistlinger at hms.harvard.edu git_url: https://git.bioconductor.org/packages/BioPlex git_branch: devel git_last_commit: 6b6b169 git_last_commit_date: 2025-10-29 10:05:00 -0500 (Wed, 29 Oct 2025)