Package: BioImageDbs Version: 1.19.0 Command: /home/biocbuild/bbs-3.23-bioc/R/bin/R CMD build --keep-empty-dirs --no-resave-data BioImageDbs StartedAt: 2025-11-11 11:07:52 -0500 (Tue, 11 Nov 2025) EndedAt: 2025-11-11 11:10:34 -0500 (Tue, 11 Nov 2025) EllapsedTime: 161.6 seconds RetCode: 0 Status: OK PackageFile: BioImageDbs_1.19.0.tar.gz PackageFileSize: 44.22 MiB