Package: BeadSorted.Saliva.EPIC Version: 1.19.0 Command: /home/biocbuild/bbs-3.23-bioc/R/bin/R CMD INSTALL BeadSorted.Saliva.EPIC StartedAt: 2025-11-11 11:03:17 -0500 (Tue, 11 Nov 2025) EndedAt: 2025-11-11 11:03:59 -0500 (Tue, 11 Nov 2025) EllapsedTime: 42.3 seconds RetCode: 0 Status: OK