Package: BeadSorted.Saliva.EPIC Version: 1.19.0 Command: /home/biocbuild/bbs-3.23-bioc/R/bin/R CMD build --keep-empty-dirs --no-resave-data BeadSorted.Saliva.EPIC StartedAt: 2025-11-11 11:07:50 -0500 (Tue, 11 Nov 2025) EndedAt: 2025-11-11 11:08:34 -0500 (Tue, 11 Nov 2025) EllapsedTime: 44.3 seconds RetCode: 0 Status: OK PackageFile: BeadSorted.Saliva.EPIC_1.19.0.tar.gz PackageFileSize: 13.47 KiB