Package: BeadArrayUseCases Version: 1.49.0 Command: /home/biocbuild/bbs-3.23-bioc/R/bin/R CMD check --install=check:BeadArrayUseCases.install-out.txt --library=/home/biocbuild/bbs-3.23-bioc/R/site-library --timings BeadArrayUseCases_1.49.0.tar.gz StartedAt: 2025-11-11 12:02:03 -0500 (Tue, 11 Nov 2025) EndedAt: 2025-11-11 12:09:57 -0500 (Tue, 11 Nov 2025) EllapsedTime: 473.5 seconds RetCode: 0 Status: OK CheckDir: BeadArrayUseCases.Rcheck Warnings: 0