Package: AssessORFData Version: 1.29.0 Command: /home/biocbuild/bbs-3.23-bioc/R/bin/R CMD INSTALL AssessORFData StartedAt: 2025-11-11 10:56:38 -0500 (Tue, 11 Nov 2025) EndedAt: 2025-11-11 10:57:23 -0500 (Tue, 11 Nov 2025) EllapsedTime: 44.9 seconds RetCode: 0 Status: OK