Package: AssessORFData Version: 1.29.0 Command: /home/biocbuild/bbs-3.23-bioc/R/bin/R CMD check --install=check:AssessORFData.install-out.txt --library=/home/biocbuild/bbs-3.23-bioc/R/site-library --timings AssessORFData_1.29.0.tar.gz StartedAt: 2025-11-13 12:02:33 -0500 (Thu, 13 Nov 2025) EndedAt: 2025-11-13 12:07:21 -0500 (Thu, 13 Nov 2025) EllapsedTime: 287.9 seconds RetCode: 0 Status: OK CheckDir: AssessORFData.Rcheck Warnings: 0